BEGIN:VCALENDAR
VERSION:2.0
PRODID:icalendar-ruby
CALSCALE:GREGORIAN
X-WR-TIMEZONE:Europe/Helsinki
BEGIN:VTIMEZONE
TZID:Europe/Helsinki
BEGIN:DAYLIGHT
DTSTART:20260329T040000
TZOFFSETFROM:+0200
TZOFFSETTO:+0300
RRULE:FREQ=YEARLY;BYDAY=-1SU;BYMONTH=3
TZNAME:EEST
END:DAYLIGHT
BEGIN:STANDARD
DTSTART:20261025T030000
TZOFFSETFROM:+0300
TZOFFSETTO:+0200
RRULE:FREQ=YEARLY;BYDAY=-1SU;BYMONTH=10
TZNAME:EET
END:STANDARD
END:VTIMEZONE
BEGIN:VEVENT
DTSTAMP:20260424T184849
UID:pips.myclub.fi-10488319
DTSTART;TZID=Europe/Helsinki:20260415T170000
DTEND;TZID=Europe/Helsinki:20260415T200000
DESCRIPTION:Tervetuloa pelinohjaajakoulutukseen! \nHaluatko mukaan jalkapal
 lon maailmaan uudessa roolissa? Pelinohjaajana pääset mukaan lasten pele
 ihin\, kehität omia taitojasi ja voit samalla tienata taskurahaa.\n👤 K
 ouluttajana: Muamer Coloman 🤝 Yhteistyössä Turun ErotuomarikerhoPelin
 ohjaajakoulutus\, tule mukaan! Kenelle? \nKoulutus on suunnattu: • 2014-
 syntyneille ja sitä vanhemmille • uusille pelinohjaajille • nykyisill
 e pelinohjaajille (hyvä kertaus ennen kautta) • joukkueiden aikuisille 
 (hyvä valmius hypätä tarvittaessa mukaan peleihin) Mitä saat? \n• Va
 lmiudet toimia pelinohjaajana (7–11-vuotiaiden pelit) • Kokemusta last
 en ohjaamisesta • Pelisäännöt ja Kaikki Pelaa -periaatteet haltuun 
 • Mahdollisuuden ansaita taskurahaa Toteutus \nTeoriaosuus Rungon koulul
 la Kenttäosuus POP Pankki Areenalla\nKoulutus on maksuton PiPSin jäsenil
 le. Muille osallistumismaksu on 15€\nIlmoittaudu mukaan tämän tapahtum
 an kautta\n\n\nhttps://pips.myclub.fi/flow/events/10488319
LOCATION:Rungon koulu\, 
SEQUENCE:0
SUMMARY:Pelinohjaajat : Pelinohjaajakoulutus 15.4.2026 klo 17-20
URL;VALUE=URI:https://pips.myclub.fi/flow/events/10488319
END:VEVENT
END:VCALENDAR
