BEGIN:VCALENDAR
VERSION:2.0
PRODID:icalendar-ruby
CALSCALE:GREGORIAN
X-WR-TIMEZONE:Europe/Helsinki
BEGIN:VTIMEZONE
TZID:Europe/Helsinki
BEGIN:DAYLIGHT
DTSTART:20260329T040000
TZOFFSETFROM:+0200
TZOFFSETTO:+0300
RRULE:FREQ=YEARLY;BYDAY=-1SU;BYMONTH=3
TZNAME:EEST
END:DAYLIGHT
BEGIN:STANDARD
DTSTART:20261025T030000
TZOFFSETFROM:+0300
TZOFFSETTO:+0200
RRULE:FREQ=YEARLY;BYDAY=-1SU;BYMONTH=10
TZNAME:EET
END:STANDARD
END:VTIMEZONE
BEGIN:VEVENT
DTSTAMP:20260424T185853
UID:pips.myclub.fi-10488588
DTSTART;TZID=Europe/Helsinki:20260325T104500
DTEND;TZID=Europe/Helsinki:20260325T104500
DESCRIPTION:Tervetuloa mukaan pelinohjaajaksi! Pelinohjaajana pääset muka
 an lasten peleihin tärkeässä roolissa\, kehität omia taitojasi ja voit
  samalla ansaita taskurahaa. Kenelle? \nPelinohjaajaksi voivat ilmoittautu
 a: • 2014-syntyneet ja sitä vanhemmat • aiemmin toimineet pelinohjaaj
 at • uudet\, jotka ovat kiinnostuneita tehtävästä • myös joukkueid
 en aikuiset ja Fair Play -vastaavat Mitä pelinohjaajana toimiminen tarjoa
 a? \n• Kokemusta lasten ohjaamisesta • Ymmärrystä pelisäännöistä
  ja pelin johtamisesta • Mahdollisuuden ansaita palkkioita • Tärkeän
  roolin lasten peli-ilon mahdollistajana Miten pääsen mukaan peleihin? \
 nPelinohjaajille on oma myClub-ryhmä\, jossa peleihin ilmoittaudutaan. Li
 sätiedot pelien varaamisesta löydät pelinohjaaja nettisivujen Usein kys
 ytyt kysymykset -osiosta.  Koulutus \nPelinohjaajakoulutus järjestetään
  ennen kauden alkua 15.4.2026 klo 17-20. Suosittelemme koulutukseen osalli
 stumista erityisesti uusille pelinohjaajille. Ilmoittaudu pelinohjaajakoul
 utukseen tästä\n👉 Ilmoittaudu mukaan pelinohjaajaksi tämän tapahtum
 an kautta\n\nhttps://pips.myclub.fi/flow/events/10488588
LOCATION:POP Areena TN\, Vanha Viipurintie 84\, Piikkiö
SEQUENCE:0
SUMMARY:Pelinohjaajat : Ilmoittautuminen PiPSin pelinohjaajaksi kaudelle 20
 26
URL;VALUE=URI:https://pips.myclub.fi/flow/events/10488588
END:VEVENT
END:VCALENDAR
